BEGIN:VCALENDAR
VERSION:2.0
PRODID:-//http://thecivic.com.au///NONSGML kigkonsult.se iCalcreator 2.10.15//
METHOD:PUBLISH
BEGIN:VEVENT
UID:20200301T204228EST-8512KibWNE@http://thecivic.com.au/
DTSTAMP:20200301T094228Z
DESCRIPTION:Gunnedah Shire Library offers a FREE housebound library service
  so that people who are confined to their homes still have access to libra
 ry materials. The library staff or volunteers will chose material accordin
 g to the preferences of the client\, pack a bag of titles\, and deliver th
 em to the house every second Wednesday\, collecting the previous bag of bo
 oks as they do so. Housebound clients may have 20 items at a time delivere
 d to their door.
DTSTART:20170228T230000Z
DTEND:20170301T030100Z
LOCATION:Gunnedah Area (Gunnedah NSW 2380\, Australia)
SUMMARY:House Bound Library Service
END:VEVENT
END:VCALENDAR
